Package: DifferentialRegulation Version: 2.5.0 Command: /Library/Frameworks/R.framework/Resources/bin/R CMD INSTALL DifferentialRegulation StartedAt: 2025-02-04 15:13:05 -0500 (Tue, 04 Feb 2025) EndedAt: 2025-02-04 15:13:21 -0500 (Tue, 04 Feb 2025) EllapsedTime: 16.5 seconds RetCode: 0 Status: OK