Package: DifferentialRegulation Version: 2.5.0 Command: /home/biocbuild/R/R/bin/R CMD build --keep-empty-dirs --no-resave-data DifferentialRegulation StartedAt: 2025-01-28 22:28:13 -0000 (Tue, 28 Jan 2025) EndedAt: 2025-01-28 22:51:54 -0000 (Tue, 28 Jan 2025) EllapsedTime: 1421.6 seconds RetCode: 0 Status: OK PackageFile: DifferentialRegulation_2.5.0.tar.gz PackageFileSize: 2.688 MiB