Package: DifferentialRegulation Version: 2.5.0 Command: /home/biocbuild/R/R/bin/R CMD INSTALL DifferentialRegulation StartedAt: 2025-01-29 20:00:39 -0000 (Wed, 29 Jan 2025) EndedAt: 2025-01-29 20:01:56 -0000 (Wed, 29 Jan 2025) EllapsedTime: 77.2 seconds RetCode: 0 Status: OK