Package: DifferentialRegulation Version: 2.5.0 Command: /Library/Frameworks/R.framework/Resources/bin/R CMD INSTALL DifferentialRegulation StartedAt: 2025-02-09 15:15:35 -0500 (Sun, 09 Feb 2025) EndedAt: 2025-02-09 15:16:43 -0500 (Sun, 09 Feb 2025) EllapsedTime: 67.6 seconds RetCode: 0 Status: OK