Package: DifferentialRegulation Version: 2.5.0 Command: /home/biocbuild/bbs-3.21-bioc/R/bin/R CMD build --keep-empty-dirs --no-resave-data DifferentialRegulation StartedAt: 2025-02-09 17:00:56 -0500 (Sun, 09 Feb 2025) EndedAt: 2025-02-09 17:04:01 -0500 (Sun, 09 Feb 2025) EllapsedTime: 185.2 seconds RetCode: 0 Status: OK PackageFile: DifferentialRegulation_2.5.0.tar.gz PackageFileSize: 3.117 MiB