Package: DifferentialRegulation Version: 2.5.0 Command: /home/biocbuild/bbs-3.21-bioc/R/bin/R CMD check --install=check:DifferentialRegulation.install-out.txt --library=/home/biocbuild/bbs-3.21-bioc/R/site-library --timings DifferentialRegulation_2.5.0.tar.gz StartedAt: 2025-02-09 21:46:36 -0500 (Sun, 09 Feb 2025) EndedAt: 2025-02-09 21:54:16 -0500 (Sun, 09 Feb 2025) EllapsedTime: 460.5 seconds RetCode: 0 Status: OK CheckDir: DifferentialRegulation.Rcheck Warnings: 0