Package: DifferentialRegulation Version: 2.5.0 Command: /home/biocbuild/bbs-3.21-bioc/R/bin/R CMD INSTALL DifferentialRegulation StartedAt: 2025-02-09 15:33:42 -0500 (Sun, 09 Feb 2025) EndedAt: 2025-02-09 15:34:32 -0500 (Sun, 09 Feb 2025) EllapsedTime: 50.0 seconds RetCode: 0 Status: OK