Package: DifferentialRegulation Version: 2.5.0 Command: rm -rf DifferentialRegulation.buildbin-libdir && mkdir DifferentialRegulation.buildbin-libdir && E:\biocbuild\bbs-3.21-bioc\R\bin\R.exe CMD INSTALL --build --library=DifferentialRegulation.buildbin-libdir DifferentialRegulation_2.5.0.tar.gz StartedAt: 2025-02-04 07:51:22 -0500 (Tue, 04 Feb 2025) EndedAt: 2025-02-04 07:55:57 -0500 (Tue, 04 Feb 2025) EllapsedTime: 275.1 seconds RetCode: 0 Status: OK PackageFile: DifferentialRegulation_2.5.0.zip PackageFileSize: 2.841 MiB