Package: DifferentialRegulation Version: 2.5.0 Command: chmod a+r DifferentialRegulation -R && E:\biocbuild\bbs-3.21-bioc\R\bin\R.exe CMD build --keep-empty-dirs --no-resave-data DifferentialRegulation StartedAt: 2025-02-03 18:34:07 -0500 (Mon, 03 Feb 2025) EndedAt: 2025-02-03 18:38:51 -0500 (Mon, 03 Feb 2025) EllapsedTime: 284.4 seconds RetCode: 0 Status: OK PackageFile: DifferentialRegulation_2.5.0.tar.gz PackageFileSize: 2.415 MiB