Package: DifferentialRegulation Version: 2.5.0 Command: E:\biocbuild\bbs-3.21-bioc\R\bin\R.exe CMD check --no-multiarch --install=check:DifferentialRegulation.install-out.txt --library=E:\biocbuild\bbs-3.21-bioc\R\library --no-vignettes --timings DifferentialRegulation_2.5.0.tar.gz StartedAt: 2025-02-04 00:58:43 -0500 (Tue, 04 Feb 2025) EndedAt: 2025-02-04 01:06:08 -0500 (Tue, 04 Feb 2025) EllapsedTime: 444.8 seconds RetCode: 0 Status: OK CheckDir: DifferentialRegulation.Rcheck Warnings: 0