Package: DifferentialRegulation Version: 2.5.0 Command: E:\biocbuild\bbs-3.21-bioc\R\bin\R.exe CMD INSTALL DifferentialRegulation StartedAt: 2025-02-09 16:19:15 -0500 (Sun, 09 Feb 2025) EndedAt: 2025-02-09 16:21:02 -0500 (Sun, 09 Feb 2025) EllapsedTime: 107.2 seconds RetCode: 0 Status: OK