Package: Dino Version: 1.13.0 Command: /Library/Frameworks/R.framework/Resources/bin/R CMD build --keep-empty-dirs --no-resave-data Dino StartedAt: 2025-02-09 16:34:52 -0500 (Sun, 09 Feb 2025) EndedAt: 2025-02-09 16:36:59 -0500 (Sun, 09 Feb 2025) EllapsedTime: 126.9 seconds RetCode: 0 Status: OK PackageFile: Dino_1.13.0.tar.gz PackageFileSize: 1.526 MiB