Package: Dino Version: 1.13.0 Command: /Library/Frameworks/R.framework/Resources/bin/R CMD check --install=check:Dino.install-out.txt --library=/Library/Frameworks/R.framework/Resources/library --no-vignettes --timings Dino_1.13.0.tar.gz StartedAt: 2025-02-09 20:20:44 -0500 (Sun, 09 Feb 2025) EndedAt: 2025-02-09 20:27:39 -0500 (Sun, 09 Feb 2025) EllapsedTime: 414.9 seconds RetCode: 0 Status: OK CheckDir: Dino.Rcheck Warnings: 0