Package: Dino Version: 1.13.0 Command: /Library/Frameworks/R.framework/Resources/bin/R CMD INSTALL Dino StartedAt: 2025-02-09 15:41:21 -0500 (Sun, 09 Feb 2025) EndedAt: 2025-02-09 15:42:15 -0500 (Sun, 09 Feb 2025) EllapsedTime: 53.9 seconds RetCode: 0 Status: OK