Package: Dino Version: 1.13.0 Command: /home/biocbuild/bbs-3.21-bioc/R/bin/R CMD INSTALL Dino StartedAt: 2025-02-09 15:52:49 -0500 (Sun, 09 Feb 2025) EndedAt: 2025-02-09 15:53:30 -0500 (Sun, 09 Feb 2025) EllapsedTime: 40.8 seconds RetCode: 0 Status: OK