Package: Dino Version: 1.13.0 Command: chmod a+r Dino -R && E:\biocbuild\bbs-3.21-bioc\R\bin\R.exe CMD build --keep-empty-dirs --no-resave-data Dino StartedAt: 2025-02-09 18:22:46 -0500 (Sun, 09 Feb 2025) EndedAt: 2025-02-09 18:26:21 -0500 (Sun, 09 Feb 2025) EllapsedTime: 215.0 seconds RetCode: 0 Status: OK PackageFile: Dino_1.13.0.tar.gz PackageFileSize: 914.7 KiB