Package: Dino Version: 1.13.0 Command: E:\biocbuild\bbs-3.21-bioc\R\bin\R.exe CMD INSTALL Dino StartedAt: 2025-02-09 16:26:30 -0500 (Sun, 09 Feb 2025) EndedAt: 2025-02-09 16:27:30 -0500 (Sun, 09 Feb 2025) EllapsedTime: 59.6 seconds RetCode: 0 Status: OK