Package: Director Version: 1.33.0 Command: rm -rf Director.buildbin-libdir && mkdir Director.buildbin-libdir && /Users/biocbuild/BBS/utils/build-universal.sh Director_1.33.0.tar.gz /Library/Frameworks/R.framework/Resources/bin/R Director.buildbin-libdir StartedAt: 2025-02-09 22:12:31 -0500 (Sun, 09 Feb 2025) EndedAt: 2025-02-09 22:12:33 -0500 (Sun, 09 Feb 2025) EllapsedTime: 2.0 seconds RetCode: 0 Status: OK PackageFile: Director_1.33.0.tgz PackageFileSize: 577.1 KiB