Package: Director Version: 1.33.0 Command: /Library/Frameworks/R.framework/Resources/bin/R CMD check --install=check:Director.install-out.txt --library=/Library/Frameworks/R.framework/Resources/library --no-vignettes --timings Director_1.33.0.tar.gz StartedAt: 2025-02-04 19:00:32 -0500 (Tue, 04 Feb 2025) EndedAt: 2025-02-04 19:00:45 -0500 (Tue, 04 Feb 2025) EllapsedTime: 13.1 seconds RetCode: 0 Status: OK CheckDir: Director.Rcheck Warnings: 0