Package: Director Version: 1.33.0 Command: /Library/Frameworks/R.framework/Resources/bin/R CMD INSTALL Director StartedAt: 2025-02-09 15:16:55 -0500 (Sun, 09 Feb 2025) EndedAt: 2025-02-09 15:17:01 -0500 (Sun, 09 Feb 2025) EllapsedTime: 6.1 seconds RetCode: 0 Status: OK