Package: Director Version: 1.33.0 Command: /home/biocbuild/bbs-3.21-bioc/R/bin/R CMD build --keep-empty-dirs --no-resave-data Director StartedAt: 2025-02-04 17:00:00 -0500 (Tue, 04 Feb 2025) EndedAt: 2025-02-04 17:00:08 -0500 (Tue, 04 Feb 2025) EllapsedTime: 8.0 seconds RetCode: 0 Status: OK PackageFile: Director_1.33.0.tar.gz PackageFileSize: 695 KiB