Package: Director Version: 1.33.0 Command: /home/biocbuild/bbs-3.21-bioc/R/bin/R CMD check --install=check:Director.install-out.txt --library=/home/biocbuild/bbs-3.21-bioc/R/site-library --timings Director_1.33.0.tar.gz StartedAt: 2025-02-04 21:47:52 -0500 (Tue, 04 Feb 2025) EndedAt: 2025-02-04 21:48:15 -0500 (Tue, 04 Feb 2025) EllapsedTime: 23.0 seconds RetCode: 0 Status: OK CheckDir: Director.Rcheck Warnings: 0