Package: Director Version: 1.33.0 Command: /home/biocbuild/bbs-3.21-bioc/R/bin/R CMD INSTALL Director StartedAt: 2025-02-04 15:05:52 -0500 (Tue, 04 Feb 2025) EndedAt: 2025-02-04 15:06:40 -0500 (Tue, 04 Feb 2025) EllapsedTime: 47.5 seconds RetCode: 0 Status: OK