Package: Director Version: 1.33.0 Command: chmod a+r Director -R && E:\biocbuild\bbs-3.21-bioc\R\bin\R.exe CMD build --keep-empty-dirs --no-resave-data Director StartedAt: 2025-02-04 18:24:03 -0500 (Tue, 04 Feb 2025) EndedAt: 2025-02-04 19:04:03 -0500 (Tue, 04 Feb 2025) EllapsedTime: 2400.3 seconds RetCode: None Status: TIMEOUT PackageFile: None PackageFileSize: NA