Package: Director Version: 1.33.0 Command: E:\biocbuild\bbs-3.21-bioc\R\bin\R.exe CMD check --no-multiarch --install=check:Director.install-out.txt --library=E:\biocbuild\bbs-3.21-bioc\R\library --no-vignettes --timings Director_1.33.0.tar.gz StartedAt: 2025-01-29 00:15:28 -0500 (Wed, 29 Jan 2025) EndedAt: 2025-01-29 00:16:02 -0500 (Wed, 29 Jan 2025) EllapsedTime: 34.8 seconds RetCode: 0 Status: OK CheckDir: Director.Rcheck Warnings: 0