Package: DirichletMultinomial Version: 1.49.0 Command: /Library/Frameworks/R.framework/Resources/bin/R CMD INSTALL DirichletMultinomial StartedAt: 2025-02-09 15:02:46 -0500 (Sun, 09 Feb 2025) EndedAt: 2025-02-09 15:02:51 -0500 (Sun, 09 Feb 2025) EllapsedTime: 5.4 seconds RetCode: 0 Status: OK