Package: DirichletMultinomial Version: 1.49.0 Command: /home/biocbuild/R/R/bin/R CMD check --install=check:DirichletMultinomial.install-out.txt --library=/home/biocbuild/R/R/site-library --no-vignettes --timings DirichletMultinomial_1.49.0.tar.gz StartedAt: 2025-01-28 10:01:07 -0000 (Tue, 28 Jan 2025) EndedAt: 2025-01-28 10:02:09 -0000 (Tue, 28 Jan 2025) EllapsedTime: 62.1 seconds RetCode: 0 Status: WARNINGS CheckDir: DirichletMultinomial.Rcheck Warnings: 1