Package: DirichletMultinomial Version: 1.49.0 Command: /Library/Frameworks/R.framework/Resources/bin/R CMD build --keep-empty-dirs --no-resave-data DirichletMultinomial StartedAt: 2025-02-12 16:33:12 -0500 (Wed, 12 Feb 2025) EndedAt: 2025-02-12 16:33:36 -0500 (Wed, 12 Feb 2025) EllapsedTime: 24.1 seconds RetCode: 0 Status: OK PackageFile: DirichletMultinomial_1.49.0.tar.gz PackageFileSize: 1.06 MiB