Package: DirichletMultinomial Version: 1.49.0 Command: E:\biocbuild\bbs-3.21-bioc\R\bin\R.exe CMD check --no-multiarch --install=check:DirichletMultinomial.install-out.txt --library=E:\biocbuild\bbs-3.21-bioc\R\library --no-vignettes --timings DirichletMultinomial_1.49.0.tar.gz StartedAt: 2025-02-13 00:43:56 -0500 (Thu, 13 Feb 2025) EndedAt: 2025-02-13 00:45:08 -0500 (Thu, 13 Feb 2025) EllapsedTime: 72.5 seconds RetCode: 0 Status: WARNINGS CheckDir: DirichletMultinomial.Rcheck Warnings: 1