Package: DominoEffect Version: 1.27.0 Command: /Library/Frameworks/R.framework/Resources/bin/R CMD check --install=check:DominoEffect.install-out.txt --library=/Library/Frameworks/R.framework/Resources/library --no-vignettes --timings DominoEffect_1.27.0.tar.gz StartedAt: 2025-02-09 19:00:46 -0500 (Sun, 09 Feb 2025) EndedAt: 2025-02-09 19:03:48 -0500 (Sun, 09 Feb 2025) EllapsedTime: 182.2 seconds RetCode: 0 Status: OK CheckDir: DominoEffect.Rcheck Warnings: 0