Package: DominoEffect Version: 1.27.0 Command: /Library/Frameworks/R.framework/Resources/bin/R CMD INSTALL DominoEffect StartedAt: 2025-02-09 15:13:34 -0500 (Sun, 09 Feb 2025) EndedAt: 2025-02-09 15:13:51 -0500 (Sun, 09 Feb 2025) EllapsedTime: 16.5 seconds RetCode: 0 Status: OK