Package: Doscheda Version: 1.29.0 Command: /Library/Frameworks/R.framework/Resources/bin/R CMD build --keep-empty-dirs --no-resave-data Doscheda StartedAt: 2025-02-09 16:10:43 -0500 (Sun, 09 Feb 2025) EndedAt: 2025-02-09 16:11:09 -0500 (Sun, 09 Feb 2025) EllapsedTime: 26.3 seconds RetCode: 0 Status: OK PackageFile: Doscheda_1.29.0.tar.gz PackageFileSize: 3.853 MiB