Package: Doscheda Version: 1.29.0 Command: /Library/Frameworks/R.framework/Resources/bin/R CMD INSTALL Doscheda StartedAt: 2025-02-12 15:23:53 -0500 (Wed, 12 Feb 2025) EndedAt: 2025-02-12 15:24:02 -0500 (Wed, 12 Feb 2025) EllapsedTime: 8.7 seconds RetCode: 0 Status: OK