Package: Doscheda Version: 1.29.0 Command: rm -rf Doscheda.buildbin-libdir && mkdir Doscheda.buildbin-libdir && /Users/biocbuild/BBS/utils/build-universal.sh Doscheda_1.29.0.tar.gz /Library/Frameworks/R.framework/Resources/bin/R Doscheda.buildbin-libdir StartedAt: 2025-02-10 00:51:18 -0500 (Mon, 10 Feb 2025) EndedAt: 2025-02-10 00:51:40 -0500 (Mon, 10 Feb 2025) EllapsedTime: 22.0 seconds RetCode: 0 Status: OK PackageFile: Doscheda_1.29.0.tgz PackageFileSize: 4.535 MiB