Package: Doscheda Version: 1.29.0 Command: /home/biocbuild/bbs-3.21-bioc/R/bin/R CMD build --keep-empty-dirs --no-resave-data Doscheda StartedAt: 2025-02-09 17:04:01 -0500 (Sun, 09 Feb 2025) EndedAt: 2025-02-09 17:04:45 -0500 (Sun, 09 Feb 2025) EllapsedTime: 44.1 seconds RetCode: 0 Status: OK PackageFile: Doscheda_1.29.0.tar.gz PackageFileSize: 3.783 MiB