Package: Doscheda Version: 1.29.0 Command: /home/biocbuild/bbs-3.21-bioc/R/bin/R CMD check --install=check:Doscheda.install-out.txt --library=/home/biocbuild/bbs-3.21-bioc/R/site-library --timings Doscheda_1.29.0.tar.gz StartedAt: 2025-02-12 21:52:33 -0500 (Wed, 12 Feb 2025) EndedAt: 2025-02-12 21:56:21 -0500 (Wed, 12 Feb 2025) EllapsedTime: 227.2 seconds RetCode: 0 Status: OK CheckDir: Doscheda.Rcheck Warnings: 0