Package: Doscheda Version: 1.29.0 Command: rm -rf Doscheda.buildbin-libdir && mkdir Doscheda.buildbin-libdir && E:\biocbuild\bbs-3.21-bioc\R\bin\R.exe CMD INSTALL --build --library=Doscheda.buildbin-libdir Doscheda_1.29.0.tar.gz StartedAt: 2025-02-13 07:50:14 -0500 (Thu, 13 Feb 2025) EndedAt: 2025-02-13 07:50:49 -0500 (Thu, 13 Feb 2025) EllapsedTime: 34.9 seconds RetCode: 0 Status: OK PackageFile: Doscheda_1.29.0.zip PackageFileSize: 3.895 MiB