Package: DriverNet Version: 1.47.0 Command: /Library/Frameworks/R.framework/Resources/bin/R CMD build --keep-empty-dirs --no-resave-data DriverNet StartedAt: 2025-02-12 16:35:33 -0500 (Wed, 12 Feb 2025) EndedAt: 2025-02-12 16:36:13 -0500 (Wed, 12 Feb 2025) EllapsedTime: 40.1 seconds RetCode: 0 Status: OK PackageFile: DriverNet_1.47.0.tar.gz PackageFileSize: 1.117 MiB