Package: DropletUtils Version: 1.27.2 Command: /Library/Frameworks/R.framework/Resources/bin/R CMD build --keep-empty-dirs --no-resave-data DropletUtils StartedAt: 2025-02-09 16:11:14 -0500 (Sun, 09 Feb 2025) EndedAt: 2025-02-09 16:11:42 -0500 (Sun, 09 Feb 2025) EllapsedTime: 28.3 seconds RetCode: 0 Status: OK PackageFile: DropletUtils_1.27.2.tar.gz PackageFileSize: 615.3 KiB