Package: DropletUtils Version: 1.27.2 Command: /Library/Frameworks/R.framework/Resources/bin/R CMD INSTALL DropletUtils StartedAt: 2025-02-12 15:13:56 -0500 (Wed, 12 Feb 2025) EndedAt: 2025-02-12 15:14:18 -0500 (Wed, 12 Feb 2025) EllapsedTime: 21.7 seconds RetCode: 0 Status: OK