Package: DropletUtils Version: 1.27.2 Command: rm -rf DropletUtils.buildbin-libdir && mkdir DropletUtils.buildbin-libdir && /Users/biocbuild/BBS/utils/build-universal.sh DropletUtils_1.27.2.tar.gz /Library/Frameworks/R.framework/Resources/bin/R DropletUtils.buildbin-libdir StartedAt: 2025-02-10 00:51:26 -0500 (Mon, 10 Feb 2025) EndedAt: 2025-02-10 00:52:53 -0500 (Mon, 10 Feb 2025) EllapsedTime: 86.8 seconds RetCode: 0 Status: OK PackageFile: DropletUtils_1.27.2.tgz PackageFileSize: 2.351 MiB