Package: DropletUtils Version: 1.27.2 Command: /Library/Frameworks/R.framework/Resources/bin/R CMD check --install=check:DropletUtils.install-out.txt --library=/Library/Frameworks/R.framework/Resources/library --no-vignettes --timings DropletUtils_1.27.2.tar.gz StartedAt: 2025-02-09 20:26:11 -0500 (Sun, 09 Feb 2025) EndedAt: 2025-02-09 20:33:18 -0500 (Sun, 09 Feb 2025) EllapsedTime: 426.9 seconds RetCode: 0 Status: WARNINGS CheckDir: DropletUtils.Rcheck Warnings: 1