Package: DropletUtils Version: 1.27.2 Command: /home/biocbuild/bbs-3.21-bioc/R/bin/R CMD check --install=check:DropletUtils.install-out.txt --library=/home/biocbuild/bbs-3.21-bioc/R/site-library --timings DropletUtils_1.27.2.tar.gz StartedAt: 2025-02-04 21:54:32 -0500 (Tue, 04 Feb 2025) EndedAt: 2025-02-04 22:01:05 -0500 (Tue, 04 Feb 2025) EllapsedTime: 392.5 seconds RetCode: 0 Status: WARNINGS CheckDir: DropletUtils.Rcheck Warnings: 1