Package: DropletUtils Version: 1.27.2 Command: /home/biocbuild/bbs-3.21-bioc/R/bin/R CMD INSTALL DropletUtils StartedAt: 2025-02-04 15:33:17 -0500 (Tue, 04 Feb 2025) EndedAt: 2025-02-04 15:34:24 -0500 (Tue, 04 Feb 2025) EllapsedTime: 66.7 seconds RetCode: 0 Status: OK