Package: DropletUtils Version: 1.27.2 Command: E:\biocbuild\bbs-3.21-bioc\R\bin\R.exe CMD check --no-multiarch --install=check:DropletUtils.install-out.txt --library=E:\biocbuild\bbs-3.21-bioc\R\library --no-vignettes --timings DropletUtils_1.27.2.tar.gz StartedAt: 2025-02-05 01:09:00 -0500 (Wed, 05 Feb 2025) EndedAt: 2025-02-05 01:17:55 -0500 (Wed, 05 Feb 2025) EllapsedTime: 535.1 seconds RetCode: 0 Status: OK CheckDir: DropletUtils.Rcheck Warnings: 0