Package: DrugVsDisease Version: 2.49.0 Command: /home/biocbuild/R/R/bin/R CMD INSTALL DrugVsDisease StartedAt: 2025-01-29 20:02:10 -0000 (Wed, 29 Jan 2025) EndedAt: 2025-01-29 20:02:11 -0000 (Wed, 29 Jan 2025) EllapsedTime: 1.0 seconds RetCode: 1 Status: ERROR