Package: DrugVsDisease Version: 2.49.0 Command: /home/biocbuild/bbs-3.21-bioc/R/bin/R CMD build --keep-empty-dirs --no-resave-data DrugVsDisease StartedAt: 2025-02-09 17:04:41 -0500 (Sun, 09 Feb 2025) EndedAt: 2025-02-09 17:04:42 -0500 (Sun, 09 Feb 2025) EllapsedTime: 1.0 seconds RetCode: 1 Status: ERROR PackageFile: None PackageFileSize: NA