Package: DrugVsDisease Version: 2.49.0 Command: /home/biocbuild/bbs-3.21-bioc/R/bin/R CMD INSTALL DrugVsDisease StartedAt: 2025-02-09 15:33:52 -0500 (Sun, 09 Feb 2025) EndedAt: 2025-02-09 15:33:53 -0500 (Sun, 09 Feb 2025) EllapsedTime: 1.0 seconds RetCode: 1 Status: ERROR