Package: DrugVsDisease Version: 2.49.0 Command: chmod a+r DrugVsDisease -R && E:\biocbuild\bbs-3.21-bioc\R\bin\R.exe CMD build --keep-empty-dirs --no-resave-data DrugVsDisease StartedAt: 2025-02-09 18:28:01 -0500 (Sun, 09 Feb 2025) EndedAt: 2025-02-09 18:28:53 -0500 (Sun, 09 Feb 2025) EllapsedTime: 51.8 seconds RetCode: 0 Status: OK PackageFile: DrugVsDisease_2.49.0.tar.gz PackageFileSize: 1.741 MiB