Package: DrugVsDisease Version: 2.49.0 Command: E:\biocbuild\bbs-3.21-bioc\R\bin\R.exe CMD check --no-multiarch --install=check:DrugVsDisease.install-out.txt --library=E:\biocbuild\bbs-3.21-bioc\R\library --no-vignettes --timings DrugVsDisease_2.49.0.tar.gz StartedAt: 2025-02-10 00:41:32 -0500 (Mon, 10 Feb 2025) EndedAt: 2025-02-10 00:44:48 -0500 (Mon, 10 Feb 2025) EllapsedTime: 195.9 seconds RetCode: 0 Status: OK CheckDir: DrugVsDisease.Rcheck Warnings: 0